BEGIN:VCALENDAR
VERSION:2.0
PRODID:-//Leigh Academy Strood - ECPv6.15.20//NONSGML v1.0//EN
CALSCALE:GREGORIAN
METHOD:PUBLISH
X-WR-CALNAME:Leigh Academy Strood
X-ORIGINAL-URL:https://leighacademystrood.org.uk
X-WR-CALDESC:Events for Leigh Academy Strood
REFRESH-INTERVAL;VALUE=DURATION:PT1H
X-Robots-Tag:noindex
X-PUBLISHED-TTL:PT1H
BEGIN:VTIMEZONE
TZID:Europe/London
BEGIN:DAYLIGHT
TZOFFSETFROM:+0000
TZOFFSETTO:+0100
TZNAME:BST
DTSTART:20220327T010000
END:DAYLIGHT
BEGIN:STANDARD
TZOFFSETFROM:+0100
TZOFFSETTO:+0000
TZNAME:GMT
DTSTART:20221030T010000
END:STANDARD
BEGIN:DAYLIGHT
TZOFFSETFROM:+0000
TZOFFSETTO:+0100
TZNAME:BST
DTSTART:20230326T010000
END:DAYLIGHT
BEGIN:STANDARD
TZOFFSETFROM:+0100
TZOFFSETTO:+0000
TZNAME:GMT
DTSTART:20231029T010000
END:STANDARD
BEGIN:DAYLIGHT
TZOFFSETFROM:+0000
TZOFFSETTO:+0100
TZNAME:BST
DTSTART:20240331T010000
END:DAYLIGHT
BEGIN:STANDARD
TZOFFSETFROM:+0100
TZOFFSETTO:+0000
TZNAME:GMT
DTSTART:20241027T010000
END:STANDARD
BEGIN:DAYLIGHT
TZOFFSETFROM:+0000
TZOFFSETTO:+0100
TZNAME:BST
DTSTART:20250330T010000
END:DAYLIGHT
BEGIN:STANDARD
TZOFFSETFROM:+0100
TZOFFSETTO:+0000
TZNAME:GMT
DTSTART:20251026T010000
END:STANDARD
BEGIN:DAYLIGHT
TZOFFSETFROM:+0000
TZOFFSETTO:+0100
TZNAME:BST
DTSTART:20260329T010000
END:DAYLIGHT
BEGIN:STANDARD
TZOFFSETFROM:+0100
TZOFFSETTO:+0000
TZNAME:GMT
DTSTART:20261025T010000
END:STANDARD
END:VTIMEZONE
BEGIN:VEVENT
DTSTART;VALUE=DATE:20251103
DTEND;VALUE=DATE:20251104
DTSTAMP:20260421T023930
CREATED:20250902T130604Z
LAST-MODIFIED:20250902T130604Z
UID:6963-1762128000-1762214399@leighacademystrood.org.uk
SUMMARY:Module 2 Starts
DESCRIPTION:
URL:https://leighacademystrood.org.uk/event/module-2-starts/
END:VEVENT
BEGIN:VEVENT
DTSTART;VALUE=DATE:20251020
DTEND;VALUE=DATE:20251101
DTSTAMP:20260421T023930
CREATED:20250902T130458Z
LAST-MODIFIED:20250902T130521Z
UID:6961-1760918400-1761955199@leighacademystrood.org.uk
SUMMARY:Autumn Break
DESCRIPTION:
URL:https://leighacademystrood.org.uk/event/autumn-break/
END:VEVENT
BEGIN:VEVENT
DTSTART;VALUE=DATE:20251017
DTEND;VALUE=DATE:20251018
DTSTAMP:20260421T023930
CREATED:20250902T130416Z
LAST-MODIFIED:20250902T130416Z
UID:6960-1760659200-1760745599@leighacademystrood.org.uk
SUMMARY:End of Module 1
DESCRIPTION:
URL:https://leighacademystrood.org.uk/event/end-of-module-1/
END:VEVENT
BEGIN:VEVENT
DTSTART;TZID=Europe/London:20251016T160000
DTEND;TZID=Europe/London:20251016T173000
DTSTAMP:20260421T023930
CREATED:20250902T130345Z
LAST-MODIFIED:20250902T130345Z
UID:6959-1760630400-1760635800@leighacademystrood.org.uk
SUMMARY:Year 7 Meet the Tutor Evening 4.00pm
DESCRIPTION:
URL:https://leighacademystrood.org.uk/event/year-7-meet-the-tutor-evening-4-00pm/
END:VEVENT
BEGIN:VEVENT
DTSTART;TZID=Europe/London:20251016T093000
DTEND;TZID=Europe/London:20251016T110000
DTSTAMP:20260421T023930
CREATED:20250902T130216Z
LAST-MODIFIED:20250902T130216Z
UID:6958-1760607000-1760612400@leighacademystrood.org.uk
SUMMARY:Year 6 Open Morning 9.30am - 11.00am
DESCRIPTION:
URL:https://leighacademystrood.org.uk/event/year-6-open-morning-9-30am-11-00am-12/
END:VEVENT
BEGIN:VEVENT
DTSTART;TZID=Europe/London:20251015T090000
DTEND;TZID=Europe/London:20251015T113000
DTSTAMP:20260421T023930
CREATED:20250902T130135Z
LAST-MODIFIED:20250902T130135Z
UID:6957-1760518800-1760527800@leighacademystrood.org.uk
SUMMARY:Year 6 Open Morning 9.30am - 11.00am
DESCRIPTION:
URL:https://leighacademystrood.org.uk/event/year-6-open-morning-9-30am-11-00am-11/
END:VEVENT
BEGIN:VEVENT
DTSTART;TZID=Europe/London:20251014T093000
DTEND;TZID=Europe/London:20251014T110000
DTSTAMP:20260421T023930
CREATED:20250902T130057Z
LAST-MODIFIED:20250902T130057Z
UID:6956-1760434200-1760439600@leighacademystrood.org.uk
SUMMARY:Year 6 Open Morning 9.30am - 11.00am
DESCRIPTION:
URL:https://leighacademystrood.org.uk/event/year-6-open-morning-9-30am-11-00am-10/
END:VEVENT
BEGIN:VEVENT
DTSTART;TZID=Europe/London:20251009T093000
DTEND;TZID=Europe/London:20251009T110000
DTSTAMP:20260421T023930
CREATED:20250902T130018Z
LAST-MODIFIED:20250902T130018Z
UID:6955-1760002200-1760007600@leighacademystrood.org.uk
SUMMARY:Year 6 Open Morning 9.30am - 11.00am
DESCRIPTION:
URL:https://leighacademystrood.org.uk/event/year-6-open-morning-9-30am-11-00am-9/
END:VEVENT
BEGIN:VEVENT
DTSTART;TZID=Europe/London:20251008T093000
DTEND;TZID=Europe/London:20251008T113000
DTSTAMP:20260421T023930
CREATED:20250902T125855Z
LAST-MODIFIED:20250902T125855Z
UID:6954-1759915800-1759923000@leighacademystrood.org.uk
SUMMARY:Year 6 Open Morning 9.30am - 11.00am
DESCRIPTION:
URL:https://leighacademystrood.org.uk/event/year-6-open-morning-9-30am-11-00am-8/
END:VEVENT
BEGIN:VEVENT
DTSTART;TZID=Europe/London:20251007T093000
DTEND;TZID=Europe/London:20251007T110000
DTSTAMP:20260421T023930
CREATED:20250902T125806Z
LAST-MODIFIED:20250902T125806Z
UID:6953-1759829400-1759834800@leighacademystrood.org.uk
SUMMARY:Year 6 Open Morning 9.30am - 11.00am
DESCRIPTION:
URL:https://leighacademystrood.org.uk/event/year-6-open-morning-9-30am-11-00am-7/
END:VEVENT
BEGIN:VEVENT
DTSTART;TZID=Europe/London:20251002T160000
DTEND;TZID=Europe/London:20251002T190000
DTSTAMP:20260421T023930
CREATED:20250902T125647Z
LAST-MODIFIED:20250902T125647Z
UID:6952-1759420800-1759431600@leighacademystrood.org.uk
SUMMARY:Year 6 Open Evening 4.00pm - 7.00pm
DESCRIPTION:Principal Welcome Assembly 5pm and 6pm
URL:https://leighacademystrood.org.uk/event/year-6-open-evening-4-00pm-7-00pm/
END:VEVENT
BEGIN:VEVENT
DTSTART;TZID=Europe/London:20251002T093000
DTEND;TZID=Europe/London:20251002T110000
DTSTAMP:20260421T023930
CREATED:20250902T125529Z
LAST-MODIFIED:20250902T125529Z
UID:6951-1759397400-1759402800@leighacademystrood.org.uk
SUMMARY:Year 6 Open Morning 9.30am - 11.00am
DESCRIPTION:
URL:https://leighacademystrood.org.uk/event/year-6-open-morning-9-30am-11-00am-6/
END:VEVENT
BEGIN:VEVENT
DTSTART;TZID=Europe/London:20251001T093000
DTEND;TZID=Europe/London:20251001T110000
DTSTAMP:20260421T023930
CREATED:20250902T125431Z
LAST-MODIFIED:20250902T125431Z
UID:6950-1759311000-1759316400@leighacademystrood.org.uk
SUMMARY:Year 6 Open Morning 9.30am - 11.00am
DESCRIPTION:
URL:https://leighacademystrood.org.uk/event/year-6-open-morning-9-30am-11-00am-5/
END:VEVENT
BEGIN:VEVENT
DTSTART;TZID=Europe/London:20250930T093000
DTEND;TZID=Europe/London:20250930T110000
DTSTAMP:20260421T023930
CREATED:20250902T125323Z
LAST-MODIFIED:20250902T125323Z
UID:6949-1759224600-1759230000@leighacademystrood.org.uk
SUMMARY:Year 6 Open Morning 9.30am - 11.00am
DESCRIPTION:
URL:https://leighacademystrood.org.uk/event/year-6-open-morning-9-30am-11-00am-4/
END:VEVENT
BEGIN:VEVENT
DTSTART;TZID=Europe/London:20250925T093000
DTEND;TZID=Europe/London:20250925T110000
DTSTAMP:20260421T023930
CREATED:20250902T125245Z
LAST-MODIFIED:20250902T125245Z
UID:6948-1758792600-1758798000@leighacademystrood.org.uk
SUMMARY:Year 6 Open Morning 9.30am - 11.00am
DESCRIPTION:
URL:https://leighacademystrood.org.uk/event/year-6-open-morning-9-30am-11-00am-3/
END:VEVENT
BEGIN:VEVENT
DTSTART;TZID=Europe/London:20250924T160000
DTEND;TZID=Europe/London:20250924T173000
DTSTAMP:20260421T023930
CREATED:20250902T125151Z
LAST-MODIFIED:20250902T125151Z
UID:6947-1758729600-1758735000@leighacademystrood.org.uk
SUMMARY:Year 10 GCSE Welcome Afternoon 4.00pm
DESCRIPTION:
URL:https://leighacademystrood.org.uk/event/year-10-gcse-welcome-afternoon-4-00pm/
END:VEVENT
BEGIN:VEVENT
DTSTART;TZID=Europe/London:20250924T093000
DTEND;TZID=Europe/London:20250924T110000
DTSTAMP:20260421T023930
CREATED:20250902T125113Z
LAST-MODIFIED:20250902T125113Z
UID:6946-1758706200-1758711600@leighacademystrood.org.uk
SUMMARY:Year 6 Open Morning 9.30am - 11.00am
DESCRIPTION:
URL:https://leighacademystrood.org.uk/event/year-6-open-morning-9-30am-11-00am-2/
END:VEVENT
BEGIN:VEVENT
DTSTART;TZID=Europe/London:20250923T093000
DTEND;TZID=Europe/London:20250923T110000
DTSTAMP:20260421T023930
CREATED:20250902T125016Z
LAST-MODIFIED:20250902T125016Z
UID:6945-1758619800-1758625200@leighacademystrood.org.uk
SUMMARY:Year 6 Open Morning 9.30am - 11.00am
DESCRIPTION:
URL:https://leighacademystrood.org.uk/event/year-6-open-morning-9-30am-11-00am/
END:VEVENT
BEGIN:VEVENT
DTSTART;TZID=Europe/London:20250917T170000
DTEND;TZID=Europe/London:20250917T190000
DTSTAMP:20260421T023930
CREATED:20250902T124912Z
LAST-MODIFIED:20250902T124912Z
UID:6944-1758128400-1758135600@leighacademystrood.org.uk
SUMMARY:Year 13 Expectations Evening - 5.00pm
DESCRIPTION:
URL:https://leighacademystrood.org.uk/event/year-13-expectations-evening-5-00pm/
END:VEVENT
BEGIN:VEVENT
DTSTART;TZID=Europe/London:20250910T160000
DTEND;TZID=Europe/London:20250910T180000
DTSTAMP:20260421T023930
CREATED:20250902T124459Z
LAST-MODIFIED:20250902T124459Z
UID:6943-1757520000-1757527200@leighacademystrood.org.uk
SUMMARY:Year 11 Expectations Evening - 4.00pm
DESCRIPTION:
URL:https://leighacademystrood.org.uk/event/year-11-expectations-evening-4-00pm/
END:VEVENT
BEGIN:VEVENT
DTSTART;TZID=Europe/London:20250904T160000
DTEND;TZID=Europe/London:20250904T180000
DTSTAMP:20260421T023930
CREATED:20250902T124406Z
LAST-MODIFIED:20250902T124406Z
UID:6942-1757001600-1757008800@leighacademystrood.org.uk
SUMMARY:Year 7 'Welcome to Leigh Academy Strood'
DESCRIPTION:Victory College: 4:00 pm\nHercules College: 4:45 pm\nTrafalgar College: 5:30 pm
URL:https://leighacademystrood.org.uk/event/year-7-welcome-to-leigh-academy-strood/
END:VEVENT
BEGIN:VEVENT
DTSTART;VALUE=DATE:20250902
DTEND;VALUE=DATE:20250903
DTSTAMP:20260421T023930
CREATED:20250902T124240Z
LAST-MODIFIED:20250902T124240Z
UID:6941-1756771200-1756857599@leighacademystrood.org.uk
SUMMARY:Module 1 starts for Years 8\, 9\, and 10
DESCRIPTION:
URL:https://leighacademystrood.org.uk/event/module-1-starts-for-years-8-9-and-10/
END:VEVENT
BEGIN:VEVENT
DTSTART;VALUE=DATE:20250901
DTEND;VALUE=DATE:20250902
DTSTAMP:20260421T023930
CREATED:20250902T124159Z
LAST-MODIFIED:20250902T124159Z
UID:6940-1756684800-1756771199@leighacademystrood.org.uk
SUMMARY:Module 1 starts for Years 7\, 11\, 12 and 13
DESCRIPTION:
URL:https://leighacademystrood.org.uk/event/module-1-starts-for-years-7-11-12-and-13/
END:VEVENT
BEGIN:VEVENT
DTSTART;VALUE=DATE:20240102
DTEND;VALUE=DATE:20240103
DTSTAMP:20260421T023930
CREATED:20221121T123154Z
LAST-MODIFIED:20221121T123154Z
UID:5089-1704153600-1704239999@leighacademystrood.org.uk
SUMMARY:INSET Day - Staff Training
DESCRIPTION:
URL:https://leighacademystrood.org.uk/event/inset-day-staff-training-3/
END:VEVENT
BEGIN:VEVENT
DTSTART;VALUE=DATE:20230721
DTEND;VALUE=DATE:20230722
DTSTAMP:20260421T023930
CREATED:20220912T150939Z
LAST-MODIFIED:20220912T150939Z
UID:4997-1689897600-1689983999@leighacademystrood.org.uk
SUMMARY:INSET Day - Staff Training
DESCRIPTION:
URL:https://leighacademystrood.org.uk/event/inset-day-staff-training-2/
END:VEVENT
BEGIN:VEVENT
DTSTART;VALUE=DATE:20230721
DTEND;VALUE=DATE:20230722
DTSTAMP:20260421T023930
CREATED:20210526T130315Z
LAST-MODIFIED:20210526T130315Z
UID:3978-1689897600-1689983999@leighacademystrood.org.uk
SUMMARY:Staff Training – School Closed for students
DESCRIPTION:
URL:https://leighacademystrood.org.uk/event/staff-training-school-closed-for-students-7/
END:VEVENT
BEGIN:VEVENT
DTSTART;VALUE=DATE:20230720
DTEND;VALUE=DATE:20230721
DTSTAMP:20260421T023930
CREATED:20210526T130202Z
LAST-MODIFIED:20210526T130202Z
UID:3977-1689811200-1689897599@leighacademystrood.org.uk
SUMMARY:End of Term 6
DESCRIPTION:
URL:https://leighacademystrood.org.uk/event/end-of-term-6-2/
END:VEVENT
BEGIN:VEVENT
DTSTART;VALUE=DATE:20230718
DTEND;VALUE=DATE:20230719
DTSTAMP:20260421T023930
CREATED:20220912T150851Z
LAST-MODIFIED:20220912T150851Z
UID:4996-1689638400-1689724799@leighacademystrood.org.uk
SUMMARY:Performing Arts Show (Main Hall)
DESCRIPTION:
URL:https://leighacademystrood.org.uk/event/performing-arts-show-main-hall-2/
END:VEVENT
BEGIN:VEVENT
DTSTART;VALUE=DATE:20230706
DTEND;VALUE=DATE:20230707
DTSTAMP:20260421T023930
CREATED:20220912T150803Z
LAST-MODIFIED:20220912T150803Z
UID:4995-1688601600-1688687999@leighacademystrood.org.uk
SUMMARY:New Year 7 Transition Day
DESCRIPTION:
URL:https://leighacademystrood.org.uk/event/new-year-7-transition-day/
END:VEVENT
BEGIN:VEVENT
DTSTART;TZID=Europe/London:20230620T090000
DTEND;TZID=Europe/London:20230620T100000
DTSTAMP:20260421T023930
CREATED:20221024T132426Z
LAST-MODIFIED:20221024T132426Z
UID:5065-1687251600-1687255200@leighacademystrood.org.uk
SUMMARY:Meet the SLT Parent/Carer Session
DESCRIPTION:
URL:https://leighacademystrood.org.uk/event/meet-the-slt-parent-carer-session-5/
END:VEVENT
END:VCALENDAR