BEGIN:VCALENDAR
VERSION:2.0
PRODID:-//Leigh Academy Strood - ECPv6.15.20//NONSGML v1.0//EN
CALSCALE:GREGORIAN
METHOD:PUBLISH
X-WR-CALNAME:Leigh Academy Strood
X-ORIGINAL-URL:https://leighacademystrood.org.uk
X-WR-CALDESC:Events for Leigh Academy Strood
REFRESH-INTERVAL;VALUE=DURATION:PT1H
X-Robots-Tag:noindex
X-PUBLISHED-TTL:PT1H
BEGIN:VTIMEZONE
TZID:Europe/London
BEGIN:DAYLIGHT
TZOFFSETFROM:+0000
TZOFFSETTO:+0100
TZNAME:BST
DTSTART:20250330T010000
END:DAYLIGHT
BEGIN:STANDARD
TZOFFSETFROM:+0100
TZOFFSETTO:+0000
TZNAME:GMT
DTSTART:20251026T010000
END:STANDARD
BEGIN:DAYLIGHT
TZOFFSETFROM:+0000
TZOFFSETTO:+0100
TZNAME:BST
DTSTART:20260329T010000
END:DAYLIGHT
BEGIN:STANDARD
TZOFFSETFROM:+0100
TZOFFSETTO:+0000
TZNAME:GMT
DTSTART:20261025T010000
END:STANDARD
BEGIN:DAYLIGHT
TZOFFSETFROM:+0000
TZOFFSETTO:+0100
TZNAME:BST
DTSTART:20270328T010000
END:DAYLIGHT
BEGIN:STANDARD
TZOFFSETFROM:+0100
TZOFFSETTO:+0000
TZNAME:GMT
DTSTART:20271031T010000
END:STANDARD
END:VTIMEZONE
BEGIN:VEVENT
DTSTART;VALUE=DATE:20260204
DTEND;VALUE=DATE:20260205
DTSTAMP:20260420T153446
CREATED:20251208T120644Z
LAST-MODIFIED:20251208T120644Z
UID:7263-1770163200-1770249599@leighacademystrood.org.uk
SUMMARY:LAT Swimming Gala - Years 8 and 9
DESCRIPTION:
URL:https://leighacademystrood.org.uk/event/lat-swimming-gala-years-8-and-9/
END:VEVENT
BEGIN:VEVENT
DTSTART;TZID=Europe/London:20260210T180000
DTEND;TZID=Europe/London:20260210T190000
DTSTAMP:20260420T153446
CREATED:20251208T120739Z
LAST-MODIFIED:20251208T120739Z
UID:7264-1770746400-1770750000@leighacademystrood.org.uk
SUMMARY:Parent Voice Forum
DESCRIPTION:
URL:https://leighacademystrood.org.uk/event/parent-voice-forum-2/
END:VEVENT
BEGIN:VEVENT
DTSTART;VALUE=DATE:20260212
DTEND;VALUE=DATE:20260213
DTSTAMP:20260420T153446
CREATED:20251208T120838Z
LAST-MODIFIED:20251208T120838Z
UID:7266-1770854400-1770940799@leighacademystrood.org.uk
SUMMARY:End of Module 3
DESCRIPTION:
URL:https://leighacademystrood.org.uk/event/end-of-module-3/
END:VEVENT
BEGIN:VEVENT
DTSTART;TZID=Europe/London:20260212T160000
DTEND;TZID=Europe/London:20260212T190000
DTSTAMP:20260420T153446
CREATED:20251208T120813Z
LAST-MODIFIED:20251208T120813Z
UID:7265-1770912000-1770922800@leighacademystrood.org.uk
SUMMARY:Year 10 Parents Evening
DESCRIPTION:
URL:https://leighacademystrood.org.uk/event/year-10-parents-evening-2/
END:VEVENT
BEGIN:VEVENT
DTSTART;VALUE=DATE:20260213
DTEND;VALUE=DATE:20260214
DTSTAMP:20260420T153446
CREATED:20251208T120900Z
LAST-MODIFIED:20251208T120900Z
UID:7267-1770940800-1771027199@leighacademystrood.org.uk
SUMMARY:INSET DAY
DESCRIPTION:
URL:https://leighacademystrood.org.uk/event/inset-day-2/
END:VEVENT
BEGIN:VEVENT
DTSTART;VALUE=DATE:20260216
DTEND;VALUE=DATE:20260221
DTSTAMP:20260420T153446
CREATED:20251208T120924Z
LAST-MODIFIED:20251208T120924Z
UID:7268-1771200000-1771631999@leighacademystrood.org.uk
SUMMARY:Winter Break
DESCRIPTION:
URL:https://leighacademystrood.org.uk/event/winter-break/
END:VEVENT
BEGIN:VEVENT
DTSTART;VALUE=DATE:20260223
DTEND;VALUE=DATE:20260224
DTSTAMP:20260420T153446
CREATED:20251208T120942Z
LAST-MODIFIED:20251208T120942Z
UID:7269-1771804800-1771891199@leighacademystrood.org.uk
SUMMARY:Module 4 starts
DESCRIPTION:
URL:https://leighacademystrood.org.uk/event/module-4-starts/
END:VEVENT
BEGIN:VEVENT
DTSTART;VALUE=DATE:20260223
DTEND;VALUE=DATE:20260224
DTSTAMP:20260420T153446
CREATED:20260115T091738Z
LAST-MODIFIED:20260115T091738Z
UID:7343-1771804800-1771891199@leighacademystrood.org.uk
SUMMARY:Year 11 Mocks Begin / Year 13 Mocks Begin
DESCRIPTION:Monday 23rd February – Year 11 Mocks Begin / Year 13 Mocks Begin
URL:https://leighacademystrood.org.uk/event/year-11-mocks-begin-year-13-mocks-begin/
END:VEVENT
END:VCALENDAR